BEGIN:VCALENDAR
VERSION:2.0
PRODID:-//gt4europeanseries.com//iCal Event
METHOD:PUBLISH
CALSCALE:GREGORIAN
BEGIN:VEVENT
DTSTAMP:20260424T133349Z
UID:GTWCEU-76
DTSTART;VALUE=DATE:20261016
DTEND;VALUE=DATE:20261018
SUMMARY:GTWC RD6
ORGANIZER;CN='GT4 European Series':mailto:info@sro-motorsports.com
URL:https://www.gt4europeanseries.com/event/76/portimao
DESCRIPTION:Algarve Round 6
LOCATION:Portugal\, Algarve
LAST-MODIFIED:20260424T133349Z
STATUS:CONFIRMED
END:VEVENT
END:VCALENDAR