BEGIN:VCALENDAR
VERSION:2.0
PRODID:-//gt4europeanseries.com//iCal Event
METHOD:PUBLISH
CALSCALE:GREGORIAN
BEGIN:VEVENT
DTSTAMP:20260424T133619Z
UID:GTWCEU-75
DTSTART;VALUE=DATE:20260918
DTEND;VALUE=DATE:20260920
SUMMARY:GTWC RD5
ORGANIZER;CN='GT4 European Series':mailto:info@sro-motorsports.com
URL:https://www.gt4europeanseries.com/event/75/zandvoort
DESCRIPTION:Zandvoort Round 5
LOCATION:Netherlands\, Zandvoort
LAST-MODIFIED:20260424T133619Z
STATUS:CONFIRMED
END:VEVENT
END:VCALENDAR