BEGIN:VCALENDAR
VERSION:2.0
PRODID:-//gt4europeanseries.com//iCal Event
METHOD:PUBLISH
CALSCALE:GREGORIAN
BEGIN:VEVENT
DTSTAMP:20260424T133619Z
UID:GTWCEU-74
DTSTART;VALUE=DATE:20260717
DTEND;VALUE=DATE:20260719
SUMMARY:GTWC RD4
ORGANIZER;CN='GT4 European Series':mailto:info@sro-motorsports.com
URL:https://www.gt4europeanseries.com/event/74/misano
DESCRIPTION:Misano Round 4
LOCATION:Italy\, Misano
LAST-MODIFIED:20260424T133619Z
STATUS:CONFIRMED
END:VEVENT
END:VCALENDAR