BEGIN:VCALENDAR
VERSION:2.0
PRODID:-//gt4europeanseries.com//iCal Event
METHOD:PUBLISH
CALSCALE:GREGORIAN
BEGIN:VEVENT
DTSTAMP:20260424T133452Z
UID:GTWCEU-73
DTSTART;VALUE=DATE:20260625
DTEND;VALUE=DATE:20260627
SUMMARY:GTWC RD3
ORGANIZER;CN='GT4 European Series':mailto:info@sro-motorsports.com
URL:https://www.gt4europeanseries.com/event/73/spa-francorchamps
DESCRIPTION:Spa-Francorchamps Round 3
LOCATION:Belgium\, Spa-Francorchamps
LAST-MODIFIED:20260424T133452Z
STATUS:CONFIRMED
END:VEVENT
END:VCALENDAR